BEGIN:VCALENDAR
VERSION:2.0
PRODID:-//École Saint-Louis Notre Dame - ECPv6.15.20//NONSGML v1.0//EN
CALSCALE:GREGORIAN
METHOD:PUBLISH
X-WR-CALNAME:École Saint-Louis Notre Dame
X-ORIGINAL-URL:https://ecolesaintlouisnotredame.fr
X-WR-CALDESC:Évènements pour École Saint-Louis Notre Dame
REFRESH-INTERVAL;VALUE=DURATION:PT1H
X-Robots-Tag:noindex
X-PUBLISHED-TTL:PT1H
BEGIN:VTIMEZONE
TZID:Europe/Paris
BEGIN:DAYLIGHT
TZOFFSETFROM:+0100
TZOFFSETTO:+0200
TZNAME:CEST
DTSTART:20230326T010000
END:DAYLIGHT
BEGIN:STANDARD
TZOFFSETFROM:+0200
TZOFFSETTO:+0100
TZNAME:CET
DTSTART:20231029T010000
END:STANDARD
BEGIN:DAYLIGHT
TZOFFSETFROM:+0100
TZOFFSETTO:+0200
TZNAME:CEST
DTSTART:20240331T010000
END:DAYLIGHT
BEGIN:STANDARD
TZOFFSETFROM:+0200
TZOFFSETTO:+0100
TZNAME:CET
DTSTART:20241027T010000
END:STANDARD
BEGIN:DAYLIGHT
TZOFFSETFROM:+0100
TZOFFSETTO:+0200
TZNAME:CEST
DTSTART:20250330T010000
END:DAYLIGHT
BEGIN:STANDARD
TZOFFSETFROM:+0200
TZOFFSETTO:+0100
TZNAME:CET
DTSTART:20251026T010000
END:STANDARD
END:VTIMEZONE
BEGIN:VEVENT
DTSTART;TZID=Europe/Paris:20240406T093000
DTEND;TZID=Europe/Paris:20240406T123000
DTSTAMP:20260422T210111
CREATED:20240402T165427Z
LAST-MODIFIED:20240408T074038Z
UID:422-1712395800-1712406600@ecolesaintlouisnotredame.fr
SUMMARY:Matinée travaux
DESCRIPTION:Les parents volontaires sont attendus à Saint Louis le 6 avril de 9h30 à 12h30 pour une matinée travaux. \nAu programme : \n\npenture\nnettoyage\npetit bricolage\nélectricité\n…
URL:https://ecolesaintlouisnotredame.fr/evennement/matinee-travaux/
ATTACH;FMTTYPE=image/jpeg:https://ecolesaintlouisnotredame.fr/wp-content/uploads/2024/04/20240406-Travaux-OGEC-rotated.jpg
END:VEVENT
END:VCALENDAR