BEGIN:VCALENDAR
VERSION:2.0
PRODID:-//École Saint-Louis Notre Dame - ECPv6.15.20//NONSGML v1.0//EN
CALSCALE:GREGORIAN
METHOD:PUBLISH
X-WR-CALNAME:École Saint-Louis Notre Dame
X-ORIGINAL-URL:https://ecolesaintlouisnotredame.fr
X-WR-CALDESC:Évènements pour École Saint-Louis Notre Dame
REFRESH-INTERVAL;VALUE=DURATION:PT1H
X-Robots-Tag:noindex
X-PUBLISHED-TTL:PT1H
BEGIN:VTIMEZONE
TZID:Europe/Paris
BEGIN:DAYLIGHT
TZOFFSETFROM:+0100
TZOFFSETTO:+0200
TZNAME:CEST
DTSTART:20240331T010000
END:DAYLIGHT
BEGIN:STANDARD
TZOFFSETFROM:+0200
TZOFFSETTO:+0100
TZNAME:CET
DTSTART:20241027T010000
END:STANDARD
BEGIN:DAYLIGHT
TZOFFSETFROM:+0100
TZOFFSETTO:+0200
TZNAME:CEST
DTSTART:20250330T010000
END:DAYLIGHT
BEGIN:STANDARD
TZOFFSETFROM:+0200
TZOFFSETTO:+0100
TZNAME:CET
DTSTART:20251026T010000
END:STANDARD
BEGIN:DAYLIGHT
TZOFFSETFROM:+0100
TZOFFSETTO:+0200
TZNAME:CEST
DTSTART:20260329T010000
END:DAYLIGHT
BEGIN:STANDARD
TZOFFSETFROM:+0200
TZOFFSETTO:+0100
TZNAME:CET
DTSTART:20261025T010000
END:STANDARD
END:VTIMEZONE
BEGIN:VEVENT
DTSTART;TZID=Europe/Paris:20250211T163000
DTEND;TZID=Europe/Paris:20250211T173000
DTSTAMP:20260422T054317
CREATED:20250118T165611Z
LAST-MODIFIED:20250118T165611Z
UID:759-1739291400-1739295000@ecolesaintlouisnotredame.fr
SUMMARY:Goûter Crêpes
DESCRIPTION:
URL:https://ecolesaintlouisnotredame.fr/evennement/gouter-crepes/
END:VEVENT
BEGIN:VEVENT
DTSTART;TZID=Europe/Paris:20250211T180000
DTEND;TZID=Europe/Paris:20250211T193000
DTSTAMP:20260422T054317
CREATED:20250118T165513Z
LAST-MODIFIED:20250118T165513Z
UID:757-1739296800-1739302200@ecolesaintlouisnotredame.fr
SUMMARY:AG de l'APEL #2
DESCRIPTION:
URL:https://ecolesaintlouisnotredame.fr/evennement/ag-de-lapel-2/
END:VEVENT
END:VCALENDAR