BEGIN:VCALENDAR
VERSION:2.0
PRODID:-//École Saint-Louis Notre Dame - ECPv6.15.20//NONSGML v1.0//EN
CALSCALE:GREGORIAN
METHOD:PUBLISH
X-ORIGINAL-URL:https://ecolesaintlouisnotredame.fr
X-WR-CALDESC:Évènements pour École Saint-Louis Notre Dame
REFRESH-INTERVAL;VALUE=DURATION:PT1H
X-Robots-Tag:noindex
X-PUBLISHED-TTL:PT1H
BEGIN:VTIMEZONE
TZID:Europe/Paris
BEGIN:DAYLIGHT
TZOFFSETFROM:+0100
TZOFFSETTO:+0200
TZNAME:CEST
DTSTART:20240331T010000
END:DAYLIGHT
BEGIN:STANDARD
TZOFFSETFROM:+0200
TZOFFSETTO:+0100
TZNAME:CET
DTSTART:20241027T010000
END:STANDARD
BEGIN:DAYLIGHT
TZOFFSETFROM:+0100
TZOFFSETTO:+0200
TZNAME:CEST
DTSTART:20250330T010000
END:DAYLIGHT
BEGIN:STANDARD
TZOFFSETFROM:+0200
TZOFFSETTO:+0100
TZNAME:CET
DTSTART:20251026T010000
END:STANDARD
BEGIN:DAYLIGHT
TZOFFSETFROM:+0100
TZOFFSETTO:+0200
TZNAME:CEST
DTSTART:20260329T010000
END:DAYLIGHT
BEGIN:STANDARD
TZOFFSETFROM:+0200
TZOFFSETTO:+0100
TZNAME:CET
DTSTART:20261025T010000
END:STANDARD
END:VTIMEZONE
BEGIN:VEVENT
DTSTART;TZID=Europe/Paris:20250401T000000
DTEND;TZID=Europe/Paris:20250430T235959
DTSTAMP:20260422T025036
CREATED:20250322T160049Z
LAST-MODIFIED:20250322T160049Z
UID:842-1743465600-1746057599@ecolesaintlouisnotredame.fr
SUMMARY:Challenge des récrés - CE2-CM1-CM2
DESCRIPTION:
URL:https://ecolesaintlouisnotredame.fr/evennement/challenge-des-recres-ce2-cm1-cm2/
END:VEVENT
BEGIN:VEVENT
DTSTART;TZID=Europe/Paris:20250403T000000
DTEND;TZID=Europe/Paris:20250531T235959
DTSTAMP:20260422T025036
CREATED:20250322T160408Z
LAST-MODIFIED:20250322T160408Z
UID:847-1743638400-1748735999@ecolesaintlouisnotredame.fr
SUMMARY:Natation - CM1 - CM2
DESCRIPTION:
URL:https://ecolesaintlouisnotredame.fr/evennement/natation-cm1-cm2/
END:VEVENT
BEGIN:VEVENT
DTSTART;TZID=Europe/Paris:20250404T000000
DTEND;TZID=Europe/Paris:20250404T235959
DTSTAMP:20260422T025036
CREATED:20250322T160503Z
LAST-MODIFIED:20250322T160503Z
UID:849-1743724800-1743811199@ecolesaintlouisnotredame.fr
SUMMARY:Sortie course d'orientation et biathlon au Bessat - CM1 - CM2
DESCRIPTION:
URL:https://ecolesaintlouisnotredame.fr/evennement/sortie-course-dorientation-et-biathlon-au-bessat-cm1-cm2/
END:VEVENT
BEGIN:VEVENT
DTSTART;TZID=Europe/Paris:20250404T080000
DTEND;TZID=Europe/Paris:20250404T110000
DTSTAMP:20260422T025036
CREATED:20250322T155745Z
LAST-MODIFIED:20250322T155936Z
UID:837-1743753600-1743764400@ecolesaintlouisnotredame.fr
SUMMARY:Cinéma- "Le Cirque" de C. Chaplin - CP - CE1 - CE2
DESCRIPTION:
URL:https://ecolesaintlouisnotredame.fr/evennement/cinema-le-cirque-de-c-chaplin-cp-et-ce1/
END:VEVENT
END:VCALENDAR