BEGIN:VCALENDAR
VERSION:2.0
PRODID:-//École Saint-Louis Notre Dame - ECPv6.15.20//NONSGML v1.0//EN
CALSCALE:GREGORIAN
METHOD:PUBLISH
X-ORIGINAL-URL:https://ecolesaintlouisnotredame.fr
X-WR-CALDESC:Évènements pour École Saint-Louis Notre Dame
REFRESH-INTERVAL;VALUE=DURATION:PT1H
X-Robots-Tag:noindex
X-PUBLISHED-TTL:PT1H
BEGIN:VTIMEZONE
TZID:Europe/Paris
BEGIN:DAYLIGHT
TZOFFSETFROM:+0100
TZOFFSETTO:+0200
TZNAME:CEST
DTSTART:20240331T010000
END:DAYLIGHT
BEGIN:STANDARD
TZOFFSETFROM:+0200
TZOFFSETTO:+0100
TZNAME:CET
DTSTART:20241027T010000
END:STANDARD
BEGIN:DAYLIGHT
TZOFFSETFROM:+0100
TZOFFSETTO:+0200
TZNAME:CEST
DTSTART:20250330T010000
END:DAYLIGHT
BEGIN:STANDARD
TZOFFSETFROM:+0200
TZOFFSETTO:+0100
TZNAME:CET
DTSTART:20251026T010000
END:STANDARD
BEGIN:DAYLIGHT
TZOFFSETFROM:+0100
TZOFFSETTO:+0200
TZNAME:CEST
DTSTART:20260329T010000
END:DAYLIGHT
BEGIN:STANDARD
TZOFFSETFROM:+0200
TZOFFSETTO:+0100
TZNAME:CET
DTSTART:20261025T010000
END:STANDARD
END:VTIMEZONE
BEGIN:VEVENT
DTSTART;TZID=Europe/Paris:20250918T171500
DTEND;TZID=Europe/Paris:20250918T180000
DTSTAMP:20260421T185246
CREATED:20250914T060220Z
LAST-MODIFIED:20250914T060220Z
UID:975-1758215700-1758218400@ecolesaintlouisnotredame.fr
SUMMARY:Réunion d'information catéchisme (à partir du CE2 jusqu'au CM2)
DESCRIPTION:
URL:https://ecolesaintlouisnotredame.fr/evennement/reunion-dinformation-catechisme-a-partir-du-ce2-jusquau-cm2/
END:VEVENT
END:VCALENDAR