BEGIN:VCALENDAR
VERSION:2.0
PRODID:-//École Saint-Louis Notre Dame - ECPv6.15.20//NONSGML v1.0//EN
CALSCALE:GREGORIAN
METHOD:PUBLISH
X-ORIGINAL-URL:https://ecolesaintlouisnotredame.fr
X-WR-CALDESC:Évènements pour École Saint-Louis Notre Dame
REFRESH-INTERVAL;VALUE=DURATION:PT1H
X-Robots-Tag:noindex
X-PUBLISHED-TTL:PT1H
BEGIN:VTIMEZONE
TZID:Europe/Paris
BEGIN:DAYLIGHT
TZOFFSETFROM:+0100
TZOFFSETTO:+0200
TZNAME:CEST
DTSTART:20240331T010000
END:DAYLIGHT
BEGIN:STANDARD
TZOFFSETFROM:+0200
TZOFFSETTO:+0100
TZNAME:CET
DTSTART:20241027T010000
END:STANDARD
BEGIN:DAYLIGHT
TZOFFSETFROM:+0100
TZOFFSETTO:+0200
TZNAME:CEST
DTSTART:20250330T010000
END:DAYLIGHT
BEGIN:STANDARD
TZOFFSETFROM:+0200
TZOFFSETTO:+0100
TZNAME:CET
DTSTART:20251026T010000
END:STANDARD
BEGIN:DAYLIGHT
TZOFFSETFROM:+0100
TZOFFSETTO:+0200
TZNAME:CEST
DTSTART:20260329T010000
END:DAYLIGHT
BEGIN:STANDARD
TZOFFSETFROM:+0200
TZOFFSETTO:+0100
TZNAME:CET
DTSTART:20261025T010000
END:STANDARD
END:VTIMEZONE
BEGIN:VEVENT
DTSTART;TZID=Europe/Paris:20250927T080000
DTEND;TZID=Europe/Paris:20250927T080000
DTSTAMP:20260421T185319
CREATED:20250914T054346Z
LAST-MODIFIED:20250914T055015Z
UID:959-1758960000-1758960000@ecolesaintlouisnotredame.fr
SUMMARY:Matinée jardinage à Notre-Dame
DESCRIPTION:
URL:https://ecolesaintlouisnotredame.fr/evennement/matinee-jardinage-a-notre-dame/
ATTACH;FMTTYPE=image/jpeg:https://ecolesaintlouisnotredame.fr/wp-content/uploads/Matinee-jardinage-.jpg
END:VEVENT
END:VCALENDAR