BEGIN:VCALENDAR
VERSION:2.0
PRODID:-//École Saint-Louis Notre Dame - ECPv6.15.20//NONSGML v1.0//EN
CALSCALE:GREGORIAN
METHOD:PUBLISH
X-ORIGINAL-URL:https://ecolesaintlouisnotredame.fr
X-WR-CALDESC:Évènements pour École Saint-Louis Notre Dame
REFRESH-INTERVAL;VALUE=DURATION:PT1H
X-Robots-Tag:noindex
X-PUBLISHED-TTL:PT1H
BEGIN:VTIMEZONE
TZID:Europe/Paris
BEGIN:DAYLIGHT
TZOFFSETFROM:+0100
TZOFFSETTO:+0200
TZNAME:CEST
DTSTART:20250330T010000
END:DAYLIGHT
BEGIN:STANDARD
TZOFFSETFROM:+0200
TZOFFSETTO:+0100
TZNAME:CET
DTSTART:20251026T010000
END:STANDARD
BEGIN:DAYLIGHT
TZOFFSETFROM:+0100
TZOFFSETTO:+0200
TZNAME:CEST
DTSTART:20260329T010000
END:DAYLIGHT
BEGIN:STANDARD
TZOFFSETFROM:+0200
TZOFFSETTO:+0100
TZNAME:CET
DTSTART:20261025T010000
END:STANDARD
BEGIN:DAYLIGHT
TZOFFSETFROM:+0100
TZOFFSETTO:+0200
TZNAME:CEST
DTSTART:20270328T010000
END:DAYLIGHT
BEGIN:STANDARD
TZOFFSETFROM:+0200
TZOFFSETTO:+0100
TZNAME:CET
DTSTART:20271031T010000
END:STANDARD
END:VTIMEZONE
BEGIN:VEVENT
DTSTART;TZID=Europe/Paris:20260305T080000
DTEND;TZID=Europe/Paris:20260402T170000
DTSTAMP:20260422T004728
CREATED:20260307T070152Z
LAST-MODIFIED:20260307T070152Z
UID:1071-1772697600-1775149200@ecolesaintlouisnotredame.fr
SUMMARY:Goûters solidaires
DESCRIPTION:Pour 5€\, les élèves bénéficient de 5 goûters (pain + chocolat) les jeudis 5/3\, 12/3\, 19/3\, 26/3 et 2/4. \nCette démarche s’inscrit dans le temps de solidarité du Carême.
URL:https://ecolesaintlouisnotredame.fr/evennement/gouters-solidaires/
END:VEVENT
BEGIN:VEVENT
DTSTART;TZID=Europe/Paris:20260319T080000
DTEND;TZID=Europe/Paris:20260319T110000
DTSTAMP:20260422T004728
CREATED:20260307T071030Z
LAST-MODIFIED:20260307T071030Z
UID:1076-1773907200-1773918000@ecolesaintlouisnotredame.fr
SUMMARY:PS - MS - GS : Le Mensonge - spectacle de la saison culturelle
DESCRIPTION:Spectacle de la saison culturelle de la ville de Saint-Chamond : \nPièce chorégraphique librement adaptée d’un livre jeunesse\, ce spectacle familial – mêlant danseurs et circassiens – raconte avec grâce et légèreté les tourments d’un combat intérieur entre vérité et mensonge. \nLe Mensonge est l’histoire d’une petite fille qui ment à sa famille\, un soir à table. En retournant dans sa chambre\, elle retrouve son mensonge sous la forme d’un rond rouge. Le lendemain à son réveil\, ce rond est encore là\, insistant et ineffaçable. Le soir au coucher\, il est toujours là. Au fil des jours\, ce rond gonfle\, se multiplie\, envahit son espace\, allant même jusqu’à l’empêcher de bien respirer. \nEn nous faisant visiter les rêves de la petite fille\, la chorégraphe questionne et réenchante le quotidien\, proposant une danse généreuse et un univers empreint d’humour et de poésie\, accessible à tous. \nD’après Le Mensonge de Catherine Grive et Frédérique Bertrand © Rouergue\, 2016.
URL:https://ecolesaintlouisnotredame.fr/evennement/ps-ms-gs-le-mensonge-spectacle-de-la-saison-culturelle/
ATTACH;FMTTYPE=image/jpeg:https://ecolesaintlouisnotredame.fr/wp-content/uploads/Le-Mensonge.jpg
END:VEVENT
END:VCALENDAR