BEGIN:VCALENDAR
VERSION:2.0
PRODID:-//École Saint-Louis Notre Dame - ECPv6.15.20//NONSGML v1.0//EN
CALSCALE:GREGORIAN
METHOD:PUBLISH
X-ORIGINAL-URL:https://ecolesaintlouisnotredame.fr
X-WR-CALDESC:Évènements pour École Saint-Louis Notre Dame
REFRESH-INTERVAL;VALUE=DURATION:PT1H
X-Robots-Tag:noindex
X-PUBLISHED-TTL:PT1H
BEGIN:VTIMEZONE
TZID:Europe/Paris
BEGIN:DAYLIGHT
TZOFFSETFROM:+0100
TZOFFSETTO:+0200
TZNAME:CEST
DTSTART:20230326T010000
END:DAYLIGHT
BEGIN:STANDARD
TZOFFSETFROM:+0200
TZOFFSETTO:+0100
TZNAME:CET
DTSTART:20231029T010000
END:STANDARD
BEGIN:DAYLIGHT
TZOFFSETFROM:+0100
TZOFFSETTO:+0200
TZNAME:CEST
DTSTART:20240331T010000
END:DAYLIGHT
BEGIN:STANDARD
TZOFFSETFROM:+0200
TZOFFSETTO:+0100
TZNAME:CET
DTSTART:20241027T010000
END:STANDARD
BEGIN:DAYLIGHT
TZOFFSETFROM:+0100
TZOFFSETTO:+0200
TZNAME:CEST
DTSTART:20250330T010000
END:DAYLIGHT
BEGIN:STANDARD
TZOFFSETFROM:+0200
TZOFFSETTO:+0100
TZNAME:CET
DTSTART:20251026T010000
END:STANDARD
END:VTIMEZONE
BEGIN:VEVENT
DTSTART;TZID=Europe/Paris:20240402T080000
DTEND;TZID=Europe/Paris:20240402T110000
DTSTAMP:20260422T192948
CREATED:20240305T110324Z
LAST-MODIFIED:20240402T170735Z
UID:335-1712044800-1712055600@ecolesaintlouisnotredame.fr
SUMMARY:Cinéma - Petites Casseroles
DESCRIPTION:Les quatre classes de maternelles iront au cinéma voir Les Casseroles
URL:https://ecolesaintlouisnotredame.fr/evennement/cinema-petites-casseroles/
END:VEVENT
BEGIN:VEVENT
DTSTART;TZID=Europe/Paris:20240404T080000
DTEND;TZID=Europe/Paris:20240404T113000
DTSTAMP:20260422T192948
CREATED:20240305T142212Z
LAST-MODIFIED:20240405T120604Z
UID:341-1712217600-1712230200@ecolesaintlouisnotredame.fr
SUMMARY:Projet Flamme olympique
DESCRIPTION:Projet Flamme olympique avec les écoles privées de la vallée du Gier. Passage de la flamme entre l’écol » St François et l’école St Louis puis entre l’école St Louis et l’école St Anne-St Pierre.
URL:https://ecolesaintlouisnotredame.fr/evennement/projet-flamme-olympique/
END:VEVENT
BEGIN:VEVENT
DTSTART;TZID=Europe/Paris:20240405T133000
DTEND;TZID=Europe/Paris:20240405T170000
DTSTAMP:20260422T192948
CREATED:20240305T105633Z
LAST-MODIFIED:20240305T105818Z
UID:329-1712323800-1712336400@ecolesaintlouisnotredame.fr
SUMMARY:Temps fort religieux à l'église Saint Pierre (sur volontariat)
DESCRIPTION:
URL:https://ecolesaintlouisnotredame.fr/evennement/temps-fort-religieux-a-leglise-saint-pierre/
END:VEVENT
BEGIN:VEVENT
DTSTART;TZID=Europe/Paris:20240406T093000
DTEND;TZID=Europe/Paris:20240406T123000
DTSTAMP:20260422T192948
CREATED:20240402T165427Z
LAST-MODIFIED:20240408T074038Z
UID:422-1712395800-1712406600@ecolesaintlouisnotredame.fr
SUMMARY:Matinée travaux
DESCRIPTION:Les parents volontaires sont attendus à Saint Louis le 6 avril de 9h30 à 12h30 pour une matinée travaux. \nAu programme : \n\npenture\nnettoyage\npetit bricolage\nélectricité\n…
URL:https://ecolesaintlouisnotredame.fr/evennement/matinee-travaux/
ATTACH;FMTTYPE=image/jpeg:https://ecolesaintlouisnotredame.fr/wp-content/uploads/2024/04/20240406-Travaux-OGEC-rotated.jpg
END:VEVENT
BEGIN:VEVENT
DTSTART;TZID=Europe/Paris:20240412T000000
DTEND;TZID=Europe/Paris:20240429T235959
DTSTAMP:20260422T192948
CREATED:20240305T105459Z
LAST-MODIFIED:20240305T105459Z
UID:327-1712880000-1714435199@ecolesaintlouisnotredame.fr
SUMMARY:Vacances scolaires
DESCRIPTION:
URL:https://ecolesaintlouisnotredame.fr/evennement/vacances-scolaires/
END:VEVENT
END:VCALENDAR