BEGIN:VCALENDAR
VERSION:2.0
PRODID:-//École Saint-Louis Notre Dame - ECPv6.15.20//NONSGML v1.0//EN
CALSCALE:GREGORIAN
METHOD:PUBLISH
X-WR-CALNAME:École Saint-Louis Notre Dame
X-ORIGINAL-URL:https://ecolesaintlouisnotredame.fr
X-WR-CALDESC:Évènements pour École Saint-Louis Notre Dame
REFRESH-INTERVAL;VALUE=DURATION:PT1H
X-Robots-Tag:noindex
X-PUBLISHED-TTL:PT1H
BEGIN:VTIMEZONE
TZID:Europe/Paris
BEGIN:DAYLIGHT
TZOFFSETFROM:+0100
TZOFFSETTO:+0200
TZNAME:CEST
DTSTART:20230326T010000
END:DAYLIGHT
BEGIN:STANDARD
TZOFFSETFROM:+0200
TZOFFSETTO:+0100
TZNAME:CET
DTSTART:20231029T010000
END:STANDARD
BEGIN:DAYLIGHT
TZOFFSETFROM:+0100
TZOFFSETTO:+0200
TZNAME:CEST
DTSTART:20240331T010000
END:DAYLIGHT
BEGIN:STANDARD
TZOFFSETFROM:+0200
TZOFFSETTO:+0100
TZNAME:CET
DTSTART:20241027T010000
END:STANDARD
BEGIN:DAYLIGHT
TZOFFSETFROM:+0100
TZOFFSETTO:+0200
TZNAME:CEST
DTSTART:20250330T010000
END:DAYLIGHT
BEGIN:STANDARD
TZOFFSETFROM:+0200
TZOFFSETTO:+0100
TZNAME:CET
DTSTART:20251026T010000
END:STANDARD
END:VTIMEZONE
BEGIN:VEVENT
DTSTART;TZID=Europe/Paris:20240607T080000
DTEND;TZID=Europe/Paris:20240607T170000
DTSTAMP:20260422T164156
CREATED:20240520T150434Z
LAST-MODIFIED:20240609T080032Z
UID:501-1717747200-1717779600@ecolesaintlouisnotredame.fr
SUMMARY:Sortie de fin d'année à la ferme Servanges - MS et GS
DESCRIPTION:
URL:https://ecolesaintlouisnotredame.fr/evennement/sortie-de-fin-dannee-a-la-ferme-servanges-ms-et-gs/
END:VEVENT
BEGIN:VEVENT
DTSTART;TZID=Europe/Paris:20240621T080000
DTEND;TZID=Europe/Paris:20240621T170000
DTSTAMP:20260422T164156
CREATED:20240520T150730Z
LAST-MODIFIED:20240623T160158Z
UID:503-1718956800-1718989200@ecolesaintlouisnotredame.fr
SUMMARY:Sortie de fin d'année à Lyon - CP - CE1 - CE2 et CM1
DESCRIPTION:Visite de Lyon : Fourvière et le Vieux Lyon\, le matin – Mini World\, l’après-midi
URL:https://ecolesaintlouisnotredame.fr/evennement/sortie-de-fin-dannee-a-lyon-cp-ce1-ce2-et-cm1/
END:VEVENT
BEGIN:VEVENT
DTSTART;TZID=Europe/Paris:20240629T140000
DTEND;TZID=Europe/Paris:20240629T170000
DTSTAMP:20260422T164156
CREATED:20240214T192958Z
LAST-MODIFIED:20240702T075935Z
UID:265-1719669600-1719680400@ecolesaintlouisnotredame.fr
SUMMARY:Kermesse 2024
DESCRIPTION:
URL:https://ecolesaintlouisnotredame.fr/evennement/kermesse-2024/
END:VEVENT
END:VCALENDAR