BEGIN:VCALENDAR
VERSION:2.0
PRODID:-//École Saint-Louis Notre Dame - ECPv6.15.20//NONSGML v1.0//EN
CALSCALE:GREGORIAN
METHOD:PUBLISH
X-WR-CALNAME:École Saint-Louis Notre Dame
X-ORIGINAL-URL:https://ecolesaintlouisnotredame.fr
X-WR-CALDESC:Évènements pour École Saint-Louis Notre Dame
REFRESH-INTERVAL;VALUE=DURATION:PT1H
X-Robots-Tag:noindex
X-PUBLISHED-TTL:PT1H
BEGIN:VTIMEZONE
TZID:Europe/Paris
BEGIN:DAYLIGHT
TZOFFSETFROM:+0100
TZOFFSETTO:+0200
TZNAME:CEST
DTSTART:20240331T010000
END:DAYLIGHT
BEGIN:STANDARD
TZOFFSETFROM:+0200
TZOFFSETTO:+0100
TZNAME:CET
DTSTART:20241027T010000
END:STANDARD
BEGIN:DAYLIGHT
TZOFFSETFROM:+0100
TZOFFSETTO:+0200
TZNAME:CEST
DTSTART:20250330T010000
END:DAYLIGHT
BEGIN:STANDARD
TZOFFSETFROM:+0200
TZOFFSETTO:+0100
TZNAME:CET
DTSTART:20251026T010000
END:STANDARD
BEGIN:DAYLIGHT
TZOFFSETFROM:+0100
TZOFFSETTO:+0200
TZNAME:CEST
DTSTART:20260329T010000
END:DAYLIGHT
BEGIN:STANDARD
TZOFFSETFROM:+0200
TZOFFSETTO:+0100
TZNAME:CET
DTSTART:20261025T010000
END:STANDARD
END:VTIMEZONE
BEGIN:VEVENT
DTSTART;TZID=Europe/Paris:20250401T000000
DTEND;TZID=Europe/Paris:20250430T235959
DTSTAMP:20260422T010711
CREATED:20250322T160049Z
LAST-MODIFIED:20250322T160049Z
UID:842-1743465600-1746057599@ecolesaintlouisnotredame.fr
SUMMARY:Challenge des récrés - CE2-CM1-CM2
DESCRIPTION:
URL:https://ecolesaintlouisnotredame.fr/evennement/challenge-des-recres-ce2-cm1-cm2/
END:VEVENT
BEGIN:VEVENT
DTSTART;TZID=Europe/Paris:20250401T080000
DTEND;TZID=Europe/Paris:20250401T110000
DTSTAMP:20260422T010711
CREATED:20250322T155551Z
LAST-MODIFIED:20250322T155551Z
UID:835-1743494400-1743505200@ecolesaintlouisnotredame.fr
SUMMARY:Cinéma - Abracadabra - PS - MS - GS
DESCRIPTION:
URL:https://ecolesaintlouisnotredame.fr/evennement/cinema-abracadabra-ps-ms-gs/
END:VEVENT
BEGIN:VEVENT
DTSTART;TZID=Europe/Paris:20250403T000000
DTEND;TZID=Europe/Paris:20250531T235959
DTSTAMP:20260422T010711
CREATED:20250322T160408Z
LAST-MODIFIED:20250322T160408Z
UID:847-1743638400-1748735999@ecolesaintlouisnotredame.fr
SUMMARY:Natation - CM1 - CM2
DESCRIPTION:
URL:https://ecolesaintlouisnotredame.fr/evennement/natation-cm1-cm2/
END:VEVENT
BEGIN:VEVENT
DTSTART;TZID=Europe/Paris:20250403T080000
DTEND;TZID=Europe/Paris:20250403T170000
DTSTAMP:20260422T010711
CREATED:20250322T155842Z
LAST-MODIFIED:20250322T160141Z
UID:839-1743667200-1743699600@ecolesaintlouisnotredame.fr
SUMMARY:Randonnée avec des écoles du bassin - CE1 - CE2 - CM1 - CM2
DESCRIPTION:
URL:https://ecolesaintlouisnotredame.fr/evennement/randonnee-avec-des-ecoles-du-bassin-ce1/
END:VEVENT
BEGIN:VEVENT
DTSTART;TZID=Europe/Paris:20250404T000000
DTEND;TZID=Europe/Paris:20250404T235959
DTSTAMP:20260422T010711
CREATED:20250322T160503Z
LAST-MODIFIED:20250322T160503Z
UID:849-1743724800-1743811199@ecolesaintlouisnotredame.fr
SUMMARY:Sortie course d'orientation et biathlon au Bessat - CM1 - CM2
DESCRIPTION:
URL:https://ecolesaintlouisnotredame.fr/evennement/sortie-course-dorientation-et-biathlon-au-bessat-cm1-cm2/
END:VEVENT
BEGIN:VEVENT
DTSTART;TZID=Europe/Paris:20250404T080000
DTEND;TZID=Europe/Paris:20250404T110000
DTSTAMP:20260422T010711
CREATED:20250322T155745Z
LAST-MODIFIED:20250322T155936Z
UID:837-1743753600-1743764400@ecolesaintlouisnotredame.fr
SUMMARY:Cinéma- "Le Cirque" de C. Chaplin - CP - CE1 - CE2
DESCRIPTION:
URL:https://ecolesaintlouisnotredame.fr/evennement/cinema-le-cirque-de-c-chaplin-cp-et-ce1/
END:VEVENT
BEGIN:VEVENT
DTSTART;TZID=Europe/Paris:20250408T000000
DTEND;TZID=Europe/Paris:20250408T235959
DTSTAMP:20260422T010711
CREATED:20250322T155443Z
LAST-MODIFIED:20250322T155443Z
UID:833-1744070400-1744156799@ecolesaintlouisnotredame.fr
SUMMARY:Sortie à la médiathèque - classe de GS
DESCRIPTION:
URL:https://ecolesaintlouisnotredame.fr/evennement/sortie-a-la-mediatheque-classe-de-gs/
END:VEVENT
BEGIN:VEVENT
DTSTART;TZID=Europe/Paris:20250411T133000
DTEND;TZID=Europe/Paris:20250411T163000
DTSTAMP:20260422T010711
CREATED:20250118T165802Z
LAST-MODIFIED:20250118T165802Z
UID:761-1744378200-1744389000@ecolesaintlouisnotredame.fr
SUMMARY:Temps fort #2
DESCRIPTION:
URL:https://ecolesaintlouisnotredame.fr/evennement/temps-fort-2/
END:VEVENT
BEGIN:VEVENT
DTSTART;TZID=Europe/Paris:20250419T080000
DTEND;TZID=Europe/Paris:20250504T170000
DTSTAMP:20260422T010711
CREATED:20250304T214348Z
LAST-MODIFIED:20250304T214348Z
UID:825-1745049600-1746378000@ecolesaintlouisnotredame.fr
SUMMARY:Vacances scolaires - Printemps
DESCRIPTION:
URL:https://ecolesaintlouisnotredame.fr/evennement/vacances-scolaires-printemps/
END:VEVENT
END:VCALENDAR