BEGIN:VCALENDAR
VERSION:2.0
PRODID:-//École Saint-Louis Notre Dame - ECPv6.15.20//NONSGML v1.0//EN
CALSCALE:GREGORIAN
METHOD:PUBLISH
X-ORIGINAL-URL:https://ecolesaintlouisnotredame.fr
X-WR-CALDESC:Évènements pour École Saint-Louis Notre Dame
REFRESH-INTERVAL;VALUE=DURATION:PT1H
X-Robots-Tag:noindex
X-PUBLISHED-TTL:PT1H
BEGIN:VTIMEZONE
TZID:Europe/Paris
BEGIN:DAYLIGHT
TZOFFSETFROM:+0100
TZOFFSETTO:+0200
TZNAME:CEST
DTSTART:20240331T010000
END:DAYLIGHT
BEGIN:STANDARD
TZOFFSETFROM:+0200
TZOFFSETTO:+0100
TZNAME:CET
DTSTART:20241027T010000
END:STANDARD
BEGIN:DAYLIGHT
TZOFFSETFROM:+0100
TZOFFSETTO:+0200
TZNAME:CEST
DTSTART:20250330T010000
END:DAYLIGHT
BEGIN:STANDARD
TZOFFSETFROM:+0200
TZOFFSETTO:+0100
TZNAME:CET
DTSTART:20251026T010000
END:STANDARD
BEGIN:DAYLIGHT
TZOFFSETFROM:+0100
TZOFFSETTO:+0200
TZNAME:CEST
DTSTART:20260329T010000
END:DAYLIGHT
BEGIN:STANDARD
TZOFFSETFROM:+0200
TZOFFSETTO:+0100
TZNAME:CET
DTSTART:20261025T010000
END:STANDARD
END:VTIMEZONE
BEGIN:VEVENT
DTSTART;TZID=Europe/Paris:20250403T000000
DTEND;TZID=Europe/Paris:20250531T235959
DTSTAMP:20260421T233205
CREATED:20250322T160408Z
LAST-MODIFIED:20250322T160408Z
UID:847-1743638400-1748735999@ecolesaintlouisnotredame.fr
SUMMARY:Natation - CM1 - CM2
DESCRIPTION:
URL:https://ecolesaintlouisnotredame.fr/evennement/natation-cm1-cm2/
END:VEVENT
BEGIN:VEVENT
DTSTART;TZID=Europe/Paris:20250419T080000
DTEND;TZID=Europe/Paris:20250504T170000
DTSTAMP:20260421T233205
CREATED:20250304T214348Z
LAST-MODIFIED:20250304T214348Z
UID:825-1745049600-1746378000@ecolesaintlouisnotredame.fr
SUMMARY:Vacances scolaires - Printemps
DESCRIPTION:
URL:https://ecolesaintlouisnotredame.fr/evennement/vacances-scolaires-printemps/
END:VEVENT
BEGIN:VEVENT
DTSTART;TZID=Europe/Paris:20250515T080000
DTEND;TZID=Europe/Paris:20250515T110000
DTSTAMP:20260421T233205
CREATED:20250510T182754Z
LAST-MODIFIED:20250510T182856Z
UID:869-1747296000-1747306800@ecolesaintlouisnotredame.fr
SUMMARY:Intervention de la conteuse Maguy pour les maternelles
DESCRIPTION:
URL:https://ecolesaintlouisnotredame.fr/evennement/intervention-de-la-conteuse-maguy-pour-les-maternelles/
END:VEVENT
BEGIN:VEVENT
DTSTART;TZID=Europe/Paris:20250523T133000
DTEND;TZID=Europe/Paris:20250523T170000
DTSTAMP:20260421T233205
CREATED:20250510T183117Z
LAST-MODIFIED:20250510T183117Z
UID:876-1748007000-1748019600@ecolesaintlouisnotredame.fr
SUMMARY:Temps fort
DESCRIPTION:
URL:https://ecolesaintlouisnotredame.fr/evennement/temps-fort/
END:VEVENT
BEGIN:VEVENT
DTSTART;TZID=Europe/Paris:20250526T000000
DTEND;TZID=Europe/Paris:20250526T235959
DTSTAMP:20260421T233205
CREATED:20250510T183215Z
LAST-MODIFIED:20250510T183215Z
UID:878-1748217600-1748303999@ecolesaintlouisnotredame.fr
SUMMARY:Randonnée Solidaire - CP - CE1 - CE2
DESCRIPTION:
URL:https://ecolesaintlouisnotredame.fr/evennement/randonnee-solidaire-cp-ce1-ce2/
END:VEVENT
END:VCALENDAR